BEGIN:VCALENDAR
VERSION:2.0
PRODID:-//Ag For Autism - ECPv6.15.13.1//NONSGML v1.0//EN
CALSCALE:GREGORIAN
METHOD:PUBLISH
X-ORIGINAL-URL:https://agforautism.org
X-WR-CALDESC:Events for Ag For Autism
REFRESH-INTERVAL;VALUE=DURATION:PT1H
X-Robots-Tag:noindex
X-PUBLISHED-TTL:PT1H
BEGIN:VTIMEZONE
TZID:America/New_York
BEGIN:DAYLIGHT
TZOFFSETFROM:-0500
TZOFFSETTO:-0400
TZNAME:EDT
DTSTART:20240310T070000
END:DAYLIGHT
BEGIN:STANDARD
TZOFFSETFROM:-0400
TZOFFSETTO:-0500
TZNAME:EST
DTSTART:20241103T060000
END:STANDARD
BEGIN:DAYLIGHT
TZOFFSETFROM:-0500
TZOFFSETTO:-0400
TZNAME:EDT
DTSTART:20250309T070000
END:DAYLIGHT
BEGIN:STANDARD
TZOFFSETFROM:-0400
TZOFFSETTO:-0500
TZNAME:EST
DTSTART:20251102T060000
END:STANDARD
BEGIN:DAYLIGHT
TZOFFSETFROM:-0500
TZOFFSETTO:-0400
TZNAME:EDT
DTSTART:20260308T070000
END:DAYLIGHT
BEGIN:STANDARD
TZOFFSETFROM:-0400
TZOFFSETTO:-0500
TZNAME:EST
DTSTART:20261101T060000
END:STANDARD
END:VTIMEZONE
BEGIN:VEVENT
DTSTART;VALUE=DATE:20250425
DTEND;VALUE=DATE:20250428
DTSTAMP:20260420T084356
CREATED:20250404T120438Z
LAST-MODIFIED:20250404T120748Z
UID:354-1745539200-1745798399@agforautism.org
SUMMARY:4th Annual ACEing for Autism Tennis Tournament
DESCRIPTION:Join us for our 4th Annual ACEing for Autism tournament\, benefiting Ag for Autism & NEATA’s Adaptive Tennis program! \n\nFriday\, April 25th – Calcutta Fundraiser\nSaturday\, April 26th – Tournament play\nSunday\, April 27th – Championship matches followed by Adaptive Unified Scramble\n\nNTRP Men’s and Women’s Doubles and Mixed Doubles. Trophies for 1st & 2nd place in each division! \nALL REGISTERED PLAYERS WILL BE ENTERED INTO A DRAWING TO WIN 1 FREE ADMISSION TO THE A-STATE ADULT SUMMER CAMP IN JUNE 2025. DRAWING WILL BE AT THE CALCUTTA\, MUST BE PRESENT AT CALCUTTA TO WIN! \nIf you would like to sponsor this event please contact us at aceingforautism@gmail.com. \nPlease note: if rain is in the forecast\, Mixed divisions will go to a 8 Game Pro-Set (no Ad).
URL:https://agforautism.org/event/4th-annual-aceing-for-autism-tennis-tournament/
LOCATION:Allen Park Community Center\, 3609 Race St\, Jonesboro\, AR\, 72401\, United States
ATTACH;FMTTYPE=image/png:https://agforautism.org/wp-content/uploads/2025/04/ace-ing-for-autism-event-img.png
ORGANIZER;CN="Ag for Autism":MAILTO:aceingforautism@gmail.com
END:VEVENT
END:VCALENDAR