BEGIN:VCALENDAR
VERSION:2.0
PRODID:-//Ag For Autism - ECPv6.15.13.1//NONSGML v1.0//EN
CALSCALE:GREGORIAN
METHOD:PUBLISH
X-WR-CALNAME:Ag For Autism
X-ORIGINAL-URL:https://agforautism.org
X-WR-CALDESC:Events for Ag For Autism
REFRESH-INTERVAL;VALUE=DURATION:PT1H
X-Robots-Tag:noindex
X-PUBLISHED-TTL:PT1H
BEGIN:VTIMEZONE
TZID:America/New_York
BEGIN:DAYLIGHT
TZOFFSETFROM:-0500
TZOFFSETTO:-0400
TZNAME:EDT
DTSTART:20240310T070000
END:DAYLIGHT
BEGIN:STANDARD
TZOFFSETFROM:-0400
TZOFFSETTO:-0500
TZNAME:EST
DTSTART:20241103T060000
END:STANDARD
BEGIN:DAYLIGHT
TZOFFSETFROM:-0500
TZOFFSETTO:-0400
TZNAME:EDT
DTSTART:20250309T070000
END:DAYLIGHT
BEGIN:STANDARD
TZOFFSETFROM:-0400
TZOFFSETTO:-0500
TZNAME:EST
DTSTART:20251102T060000
END:STANDARD
BEGIN:DAYLIGHT
TZOFFSETFROM:-0500
TZOFFSETTO:-0400
TZNAME:EDT
DTSTART:20260308T070000
END:DAYLIGHT
BEGIN:STANDARD
TZOFFSETFROM:-0400
TZOFFSETTO:-0500
TZNAME:EST
DTSTART:20261101T060000
END:STANDARD
END:VTIMEZONE
BEGIN:VEVENT
DTSTART;TZID=America/New_York:20250921T160000
DTEND;TZID=America/New_York:20250921T180000
DTSTAMP:20260420T070036
CREATED:20250910T215854Z
LAST-MODIFIED:20250910T220057Z
UID:647-1758470400-1758477600@agforautism.org
SUMMARY:NEA District Fair Sensory Hours
DESCRIPTION:🎡 Sensory-Friendly Fair Hour 🎡 \nJoin us for a special sensory-friendly experience at the fair! For two hours\, we’ll create a calmer\, more relaxed environment—no loud music\, shorter lines\, and minimal distractions—so everyone can enjoy the fun at their own pace. \nWhether it’s your first fair or your favorite tradition\, this is the perfect time for families and individuals who benefit from a gentler\, quieter atmosphere. Come ride\, play\, and explore with comfort and ease!
URL:https://agforautism.org/event/nea-district-fair-sensory-hours/
LOCATION:NEA District Fairgrounds\, 7001 Johnson Ave\, Jonesboro\, AR\, 72401\, United States
ATTACH;FMTTYPE=image/webp:https://agforautism.org/wp-content/uploads/2025/09/unnamed.webp
END:VEVENT
END:VCALENDAR