BEGIN:VCALENDAR
VERSION:2.0
PRODID:-//Ag For Autism - ECPv6.15.13.1//NONSGML v1.0//EN
CALSCALE:GREGORIAN
METHOD:PUBLISH
X-WR-CALNAME:Ag For Autism
X-ORIGINAL-URL:https://agforautism.org
X-WR-CALDESC:Events for Ag For Autism
REFRESH-INTERVAL;VALUE=DURATION:PT1H
X-Robots-Tag:noindex
X-PUBLISHED-TTL:PT1H
BEGIN:VTIMEZONE
TZID:America/New_York
BEGIN:DAYLIGHT
TZOFFSETFROM:-0500
TZOFFSETTO:-0400
TZNAME:EDT
DTSTART:20240310T070000
END:DAYLIGHT
BEGIN:STANDARD
TZOFFSETFROM:-0400
TZOFFSETTO:-0500
TZNAME:EST
DTSTART:20241103T060000
END:STANDARD
BEGIN:DAYLIGHT
TZOFFSETFROM:-0500
TZOFFSETTO:-0400
TZNAME:EDT
DTSTART:20250309T070000
END:DAYLIGHT
BEGIN:STANDARD
TZOFFSETFROM:-0400
TZOFFSETTO:-0500
TZNAME:EST
DTSTART:20251102T060000
END:STANDARD
BEGIN:DAYLIGHT
TZOFFSETFROM:-0500
TZOFFSETTO:-0400
TZNAME:EDT
DTSTART:20260308T070000
END:DAYLIGHT
BEGIN:STANDARD
TZOFFSETFROM:-0400
TZOFFSETTO:-0500
TZNAME:EST
DTSTART:20261101T060000
END:STANDARD
END:VTIMEZONE
BEGIN:VEVENT
DTSTART;VALUE=DATE:20250419
DTEND;VALUE=DATE:20250420
DTSTAMP:20260420T124422
CREATED:20250409T180119Z
LAST-MODIFIED:20250409T180119Z
UID:391-1745020800-1745107199@agforautism.org
SUMMARY:All-Stars for Autism
DESCRIPTION:MirTech Harvest Center presents the 3rd Annual Youth Fastpitch Tournament & High School PlayDay. 100% of proceeds from the tournament go directly to Ag for Autism. \nTournament Details: \nWhen: Saturday\, April 19th\, 2025 \nWhere: Southside Softball Complex \nContact Tyler Herring for more details! (870)-219-3799 \nNEW! Easter Egg Hunt – Open to the Public \n\nPublic – $5 per participant\nTournament Players FREE\nAges 1-6\, Ages 7-12\, Ages 13-18 on separate hunts!\nEaster egg hunt time TBA after brackets are released\n\nClick here to view event flyer.
URL:https://agforautism.org/event/all-stars-for-autism/
LOCATION:Southside Softball Complex\, 5003 Stadium Blvd\, Jonesboro\, AR\, 72404\, United States
END:VEVENT
END:VCALENDAR